BEGIN:VCALENDAR
VERSION:2.0
PRODID:-//Lakeside Golf Club Camden - ECPv6.15.16.1//NONSGML v1.0//EN
CALSCALE:GREGORIAN
METHOD:PUBLISH
X-WR-CALNAME:Lakeside Golf Club Camden
X-ORIGINAL-URL:https://camdenlakeside.com.au
X-WR-CALDESC:Events for Lakeside Golf Club Camden
REFRESH-INTERVAL;VALUE=DURATION:PT1H
X-Robots-Tag:noindex
X-PUBLISHED-TTL:PT1H
BEGIN:VTIMEZONE
TZID:Australia/Sydney
BEGIN:STANDARD
TZOFFSETFROM:+1100
TZOFFSETTO:+1000
TZNAME:AEST
DTSTART:20250405T160000
END:STANDARD
BEGIN:DAYLIGHT
TZOFFSETFROM:+1000
TZOFFSETTO:+1100
TZNAME:AEDT
DTSTART:20251004T160000
END:DAYLIGHT
BEGIN:STANDARD
TZOFFSETFROM:+1100
TZOFFSETTO:+1000
TZNAME:AEST
DTSTART:20260404T160000
END:STANDARD
BEGIN:DAYLIGHT
TZOFFSETFROM:+1000
TZOFFSETTO:+1100
TZNAME:AEDT
DTSTART:20261003T160000
END:DAYLIGHT
BEGIN:STANDARD
TZOFFSETFROM:+1100
TZOFFSETTO:+1000
TZNAME:AEST
DTSTART:20270403T160000
END:STANDARD
BEGIN:DAYLIGHT
TZOFFSETFROM:+1000
TZOFFSETTO:+1100
TZNAME:AEDT
DTSTART:20271002T160000
END:DAYLIGHT
END:VTIMEZONE
BEGIN:VEVENT
DTSTART;VALUE=DATE:20260329
DTEND;VALUE=DATE:20260330
DTSTAMP:20260420T203834
CREATED:20260224T023248Z
LAST-MODIFIED:20260224T023248Z
UID:10013799-1774742400-1774828799@camdenlakeside.com.au
SUMMARY:MEGA MEMBERS MONTH
DESCRIPTION:
URL:https://camdenlakeside.com.au/event/mega-members-month/2026-03-29/
CATEGORIES:Promotions
END:VEVENT
BEGIN:VEVENT
DTSTART;TZID=Australia/Sydney:20260328T140000
DTEND;TZID=Australia/Sydney:20260328T233000
DTSTAMP:20260420T203834
CREATED:20260223T002124Z
LAST-MODIFIED:20260223T002124Z
UID:10012467-1774706400-1774740600@camdenlakeside.com.au
SUMMARY:$100K FOR 100K MEMBERS
DESCRIPTION:
URL:https://camdenlakeside.com.au/event/100k-for-100k-members/
CATEGORIES:Promotions
END:VEVENT
BEGIN:VEVENT
DTSTART;TZID=Australia/Sydney:20260327T190000
DTEND;TZID=Australia/Sydney:20260327T230000
DTSTAMP:20260420T203834
CREATED:20260223T235400Z
LAST-MODIFIED:20260223T235400Z
UID:10013768-1774638000-1774652400@camdenlakeside.com.au
SUMMARY:$30\,000 STAIRWAY TO HEAVEN
DESCRIPTION:
URL:https://camdenlakeside.com.au/event/30000-stairway-to-heaven-4/
CATEGORIES:Promotions
END:VEVENT
BEGIN:VEVENT
DTSTART;TZID=Australia/Sydney:20260327T190000
DTEND;TZID=Australia/Sydney:20260327T210000
DTSTAMP:20260420T203834
CREATED:20251202T012908Z
LAST-MODIFIED:20260316T230625Z
UID:10011367-1774638000-1774645200@camdenlakeside.com.au
SUMMARY:EZIO DE ANGELIS - PSYCHIC MEDIUM
DESCRIPTION:
URL:https://camdenlakeside.com.au/event/ezio-de-angelis-psychic-medium/
CATEGORIES:Activities
END:VEVENT
BEGIN:VEVENT
DTSTART;TZID=Australia/Sydney:20260326T190000
DTEND;TZID=Australia/Sydney:20260326T233000
DTSTAMP:20260420T203834
CREATED:20260222T235536Z
LAST-MODIFIED:20260222T235536Z
UID:10012464-1774551600-1774567800@camdenlakeside.com.au
SUMMARY:$20\,000 MOUNTAIN OF CASH
DESCRIPTION:
URL:https://camdenlakeside.com.au/event/20000-mountain-of-cash-4/
CATEGORIES:Promotions
END:VEVENT
BEGIN:VEVENT
DTSTART;TZID=Australia/Sydney:20260326T190000
DTEND;TZID=Australia/Sydney:20260326T210000
DTSTAMP:20260420T203834
CREATED:20260223T003838Z
LAST-MODIFIED:20260223T005538Z
UID:10013764-1774551600-1774558800@camdenlakeside.com.au
SUMMARY:$2\,500 EAR-RESISTIBLE EASTER RAFFLE
DESCRIPTION:
URL:https://camdenlakeside.com.au/event/2500-ear-resistible-easter-raffle/
CATEGORIES:Activities
END:VEVENT
BEGIN:VEVENT
DTSTART;TZID=Australia/Sydney:20260320T190000
DTEND;TZID=Australia/Sydney:20260320T230000
DTSTAMP:20260420T203834
CREATED:20260223T235356Z
LAST-MODIFIED:20260223T235356Z
UID:10013769-1774033200-1774047600@camdenlakeside.com.au
SUMMARY:$30\,000 STAIRWAY TO HEAVEN
DESCRIPTION:
URL:https://camdenlakeside.com.au/event/30000-stairway-to-heaven-3/
CATEGORIES:Promotions
END:VEVENT
END:VCALENDAR